BEGIN:VCALENDAR
VERSION:2.0
PRODID:-//eventon.com NONSGML v1.0//EN
CALSCALE:GREGORIAN
METHOD:PUBLISH
BEGIN:VEVENT
UID:69ed94170a311
DTSTAMP:20260426T042703Z
DTSTART:20170220T190000Z
DTEND:20170220T210000Z
LOCATION:
SUMMARY:Spiritual Focus. Avoiding Distractions
DESCRIPTION:Spiritual Focus. Avoiding Distractions We live in an expanding 
 global human society where our technologies exceed our maturity and chaos s
 eems to inhabit every aspect of our lives. We have become easily distracted
  by the hypnotic effect of the technologies and dis-empowered by the cacoph
 ony of demands on us. Join[..]\nhttps://lightnews.org/events/spiritual-focu
 s-avoiding-distractions/
URL:https://lightnews.org/events/spiritual-focus-avoiding-distractions/
END:VEVENT
END:VCALENDAR