BEGIN:VCALENDAR
VERSION:2.0
PRODID:-//eventon.com NONSGML v1.0//EN
CALSCALE:GREGORIAN
METHOD:PUBLISH
BEGIN:VEVENT
UID:69ed816be1b21
DTSTAMP:20260426T030723Z
DTSTART:20170224T190000Z
DTEND:20170224T210000Z
LOCATION:
SUMMARY:Metaphysics and You
DESCRIPTION:Metaphysics and You How can it be that we are simultaneously a 
 ‘spirit’ (a being beyond the grasp of space and time) and have a physic
 al presence? This is one of the most beautiful and most difficult aspects o
 f what it is to be a “whole human being” who possesses[..]\nhttps://lig
 htnews.org/events/metaphysics-and-you/
URL:https://lightnews.org/events/metaphysics-and-you/
END:VEVENT
END:VCALENDAR