BEGIN:VCALENDAR
VERSION:2.0
PRODID:-//eventon.com NONSGML v1.0//EN
CALSCALE:GREGORIAN
METHOD:PUBLISH
BEGIN:VEVENT
UID:69ed6e9656f2a
DTSTAMP:20260426T014702Z
DTSTART:20170228T190000Z
DTEND:20170228T130000Z
LOCATION:
SUMMARY:Insight in Understanding Chakras
DESCRIPTION:Insight in Understanding Chakras The use of the word “Chakras
 ” has become very commonplace\,  but what do we know about the seven ‘e
 nergy centers’ of the human being? How do they really work and why do the
  yogis and gurus tell us to ‘awaken’ them? Come for an informative even
 ing[..]\nhttps://lightnews.org/events/insight-in-understanding-chakras/
URL:https://lightnews.org/events/insight-in-understanding-chakras/
END:VEVENT
END:VCALENDAR