BEGIN:VCALENDAR
VERSION:2.0
PRODID:-//eventon.com NONSGML v1.0//EN
CALSCALE:GREGORIAN
METHOD:PUBLISH
BEGIN:VEVENT
UID:69ed6ecf6381c
DTSTAMP:20260426T014759Z
DTSTART:20170315T190000Z
DTEND:20170315T210000Z
LOCATION:
SUMMARY:The Spiritual Nature of Man
DESCRIPTION:The Spiritual Nature of Man When you read of the mystics tellin
 g of the spiritual nature of man\,  what do you think of? When you hear tha
 t we are entering a golden age of inner transformation\,  what does that me
 an to you. What is meant by ‘spiritual nature’? If you[..]\nhttps://lig
 htnews.org/events/the-spiritual-nature-of-man/
URL:https://lightnews.org/events/the-spiritual-nature-of-man/
END:VEVENT
END:VCALENDAR