BEGIN:VCALENDAR
VERSION:2.0
PRODID:-//eventon.com NONSGML v1.0//EN
CALSCALE:GREGORIAN
METHOD:PUBLISH
BEGIN:VEVENT
UID:69ed43c11da6f
DTSTAMP:20260425T224417Z
DTSTART:20170921T170000Z
DTEND:20170926T110000Z
LOCATION:
SUMMARY:2017 Journey of the Sacred Heart Meditation Retreat
DESCRIPTION:We are once again heading to Sedona - to be a part of the magni
 ficent energies. Won't you come and join us: September 21 - 26th for four d
 ays of Kundalini Yoga\,  Meditation and Vortexes. [caption id="attachment_2
 508" align="alignright" width="194"] Buddhist Stupa & Chimney Rock[/caption
 ] Journey Benefits: This Journey is designed[..]\nhttps://lightnews.org/eve
 nts/2017-journey-of-the-sacred-heart-meditation-retreat/
URL:https://lightnews.org/events/2017-journey-of-the-sacred-heart-meditation-retreat/
END:VEVENT
END:VCALENDAR