BEGIN:VCALENDAR
VERSION:2.0
PRODID:-//eventon.com NONSGML v1.0//EN
CALSCALE:GREGORIAN
METHOD:PUBLISH
BEGIN:VEVENT
UID:69ed1a79aae8c
DTSTAMP:20260425T194809Z
DTSTART:20170418T190000Z
DTEND:20170418T220000Z
LOCATION:
SUMMARY:Intuitive Flower Readings at Tara Healing Center April 18th
DESCRIPTION:What is a Flower Reading? The purpose of a Flower Reading is to
  show your true spiritual nature to you – that you really are an amazing 
 luminous being of light… that you are far more than just the mental and p
 hysical presence of your body. The information Dr. Jelusich[..]\nhttps://li
 ghtnews.org/events/intuitive-flower-readings-at-tara-healing-center-april-1
 8th/
URL:https://lightnews.org/events/intuitive-flower-readings-at-tara-healing-center-april-18th/
END:VEVENT
END:VCALENDAR