BEGIN:VCALENDAR
VERSION:2.0
PRODID:-//eventon.com NONSGML v1.0//EN
CALSCALE:GREGORIAN
METHOD:PUBLISH
BEGIN:VEVENT
UID:69ed03656a485
DTSTAMP:20260425T180941Z
DTSTART:20170412T190000Z
DTEND:20170412T220000Z
LOCATION:
SUMMARY:Q & A Night With Dr. Richard Jelusich Tara Healing Center April 12th
DESCRIPTION:Have Questions on Metaphysics? The Spiritual Nature of the ‘W
 hole Human Being’? Come join us for a fun and informative evening of conv
 ersation with Dr. Richard Jelusich as he discusses our spiritual nature\,  
 the “Golden Era of Inner Transformation” that is unfolding now\,  and t
 ools we can use to awaken[..]\nhttps://lightnews.org/events/q-a-night-with-
 dr-richard-jelusich-tara-healing-center-april-12th/
URL:https://lightnews.org/events/q-a-night-with-dr-richard-jelusich-tara-healing-center-april-12th/
END:VEVENT
END:VCALENDAR