BEGIN:VCALENDAR
VERSION:2.0
PRODID:-//eventon.com NONSGML v1.0//EN
CALSCALE:GREGORIAN
METHOD:PUBLISH
BEGIN:VEVENT
UID:69ecdb367dfd0
DTSTAMP:20260425T151814Z
DTSTART:20170529T190000Z
DTEND:20170529T220000Z
LOCATION:
SUMMARY:Past Life Karma and Reincarnation Lecture Readings Soul Gardens Studio
DESCRIPTION:Past Life Karma and Reincarnation workshops help you realize th
 at you are the accumulation of many lifetimes\,  and those lifetimes’ aff
 ects and attachments are locked into your four archetypes: mental\,  physic
 al\,  emotional and spiritual. WHY A PAST LIFE READING? Remembering a past 
 life enables you to understand who you are[..]\nhttps://lightnews.org/event
 s/past-life-karma-and-reincarnation-lecture-readings-soul-gardens-studio/
URL:https://lightnews.org/events/past-life-karma-and-reincarnation-lecture-readings-soul-gardens-studio/
END:VEVENT
END:VCALENDAR