BEGIN:VCALENDAR
VERSION:2.0
PRODID:-//eventon.com NONSGML v1.0//EN
CALSCALE:GREGORIAN
METHOD:PUBLISH
BEGIN:VEVENT
UID:69ecdacdc0d22
DTSTAMP:20260425T151629Z
DTSTART:20170516T190000Z
DTEND:20170516T220000Z
LOCATION:
SUMMARY:Sound Immersion Meditation at Tara Healing Center
DESCRIPTION:Come celebrate your unique divinity. During this powerful time 
 of Lunar movement you are offered an opportunity to completely relax as Dr.
  Jelusich creates a vehicle for a totally beneficial and uplifting group tr
 anscendence experience. Within the Meditation (approximately 35 minutes in 
 length) through deeply moving and connected guided imagery\, [..]\nhttps://
 lightnews.org/events/sound-immersion-meditation-at-tara-healing-center/
URL:https://lightnews.org/events/sound-immersion-meditation-at-tara-healing-center/
END:VEVENT
END:VCALENDAR