BEGIN:VCALENDAR
VERSION:2.0
PRODID:-//eventon.com NONSGML v1.0//EN
CALSCALE:GREGORIAN
METHOD:PUBLISH
BEGIN:VEVENT
UID:69ecace7428a8
DTSTAMP:20260425T120039Z
DTSTART:20170321T190000Z
DTEND:20170321T220000Z
LOCATION:
SUMMARY:"Science and Metaphysics the Discussion" hosted by: San Diego Wholistic Chamber of Commerce
DESCRIPTION:Dr. Richard Jelusich blends metaphysics and science in order t
 o help us understand our spiritual nature in a grounded manner.  There are
  over 500 scientific studies proving human consciousness affects biological
  and electrical systems.  This scientific knowledge helps to ‘poke holes
  in the teacup’ as the Japanese saying goes.  That is\, [..]\nhttps://li
 ghtnews.org/events/science-and-metaphysics-the-discussion-hosted-by-san-die
 go-wholistic-chamber-of-commerce/
URL:https://lightnews.org/events/science-and-metaphysics-the-discussion-hosted-by-san-diego-wholistic-chamber-of-commerce/
END:VEVENT
END:VCALENDAR