BEGIN:VCALENDAR
VERSION:2.0
PRODID:-//eventon.com NONSGML v1.0//EN
CALSCALE:GREGORIAN
METHOD:PUBLISH
BEGIN:VEVENT
UID:69ec986dd7ea9
DTSTAMP:20260425T103317Z
DTSTART:20170323
DTEND:20170324
LOCATION:
SUMMARY:Join Dr. Jelusich in San Jose March 23 to 24th
DESCRIPTION:Dr. Jelusich will be in San Jose – booking Private Sessions
 \,  hosting Flower Readings. Call or email to book your event. Remember Dr.
  Jelusich offers FREE events to various schools\,  centers and studios thro
 ugh out the San Jose area on Metaphysics and Spiritual Awakening.\nhttps:
 //lightnews.org/events/join-dr-jelusich-in-san-jose-march-23-to-24th/
URL:https://lightnews.org/events/join-dr-jelusich-in-san-jose-march-23-to-24th/
END:VEVENT
END:VCALENDAR