BEGIN:VCALENDAR
VERSION:2.0
PRODID:-//eventon.com NONSGML v1.0//EN
CALSCALE:GREGORIAN
METHOD:PUBLISH
BEGIN:VEVENT
UID:69ec294a99f1b
DTSTAMP:20260425T023906Z
DTSTART:20170407
DTEND:20170408
LOCATION:
SUMMARY:Join Dr. Jelusich in Calgary April 7th to 10th
DESCRIPTION:Dr. Jelusich will be in Calgary – booking Private Sessions\
 ,  hosting Flower Readings. Call or email to book your event. Remember Dr. 
 Jelusich offers FREE events to various schools\,  centers and studios throu
 gh out the Calgary area on Metaphysics and Spiritual Awakening.\nhttps://l
 ightnews.org/events/join-dr-jelusich-in-calgary-april-7th-to-10th/
URL:https://lightnews.org/events/join-dr-jelusich-in-calgary-april-7th-to-10th/
END:VEVENT
END:VCALENDAR