BEGIN:VCALENDAR
VERSION:2.0
PRODID:-//eventon.com NONSGML v1.0//EN
CALSCALE:GREGORIAN
METHOD:PUBLISH
BEGIN:VEVENT
UID:69ec2852aaf02
DTSTAMP:20260425T023458Z
DTSTART:20170411
DTEND:20170412
LOCATION:
SUMMARY:Join Dr. Jelusich in San Diego April 11th to 20th
DESCRIPTION:Dr. Jelusich will be in San Diego – booking Private Sessio
 ns\,  hosting Flower Readings. Call or email to book your event. Remember D
 r. Jelusich offers FREE events to various schools\,  centers and studios th
 rough out the San Diego area on Metaphysics and Spiritual Awakening.\nhttps
 ://lightnews.org/events/join-dr-jelusich-in-san-diego-april-11th-to-april-2
 0th-copy/
URL:https://lightnews.org/events/join-dr-jelusich-in-san-diego-april-11th-to-april-20th-copy/
END:VEVENT
END:VCALENDAR