BEGIN:VCALENDAR
VERSION:2.0
PRODID:-//eventon.com NONSGML v1.0//EN
CALSCALE:GREGORIAN
METHOD:PUBLISH
BEGIN:VEVENT
UID:69ebf3a6e4ed2
DTSTAMP:20260424T225014Z
DTSTART:20170314
DTEND:20170315
LOCATION:
SUMMARY:Join Dr. Jelusich in San Diego March 14th to 22nd
DESCRIPTION:Dr. Jelusich will be in San Diego – booking Private Sessio
 ns\,  hosting Flower Readings. Call or email to book your event. Remember D
 r. Jelusich offers FREE events to various schools\,  centers and studios th
 rough out the San Diego area on Metaphysics and Spiritual Awakening.\nhttps
 ://lightnews.org/events/join-dr-jelusich-in-san-diego-march-14th-to-22nd/
URL:https://lightnews.org/events/join-dr-jelusich-in-san-diego-march-14th-to-22nd/
END:VEVENT
END:VCALENDAR