BEGIN:VCALENDAR
VERSION:2.0
PRODID:-//eventon.com NONSGML v1.0//EN
CALSCALE:GREGORIAN
METHOD:PUBLISH
BEGIN:VEVENT
UID:69ebdbaeb5db7
DTSTAMP:20260424T210758Z
DTSTART:20170504
DTEND:20170505
LOCATION:
SUMMARY:Join Dr. Jelusich in San Jose May 4th to 6th
DESCRIPTION:Dr. Jelusich will be in San Jose – booking Private Session
 s\,  hosting Flower Readings. Call or email to book your event. Remember Dr
 . Jelusich offers FREE events to various schools\,  centers and studios thr
 ough out the San JoseSan area on Metaphysics and Spiritual Awakening.\nhttp
 s://lightnews.org/events/join-dr-jelusich-in-san-jose-may-4th-to-6th/
URL:https://lightnews.org/events/join-dr-jelusich-in-san-jose-may-4th-to-6th/
END:VEVENT
END:VCALENDAR