BEGIN:VCALENDAR
VERSION:2.0
PRODID:-//eventon.com NONSGML v1.0//EN
CALSCALE:GREGORIAN
METHOD:PUBLISH
BEGIN:VEVENT
UID:69ebc39057738
DTSTAMP:20260424T192504Z
DTSTART:20170510
DTEND:20170511
LOCATION:
SUMMARY:Join Dr. Jelusich in San Jose May 10th to 12th
DESCRIPTION:Dr. Jelusich will be in San Jose – booking Private Session
 s\,  hosting Flower Readings. Call or email to book your event. Remember Dr
 . Jelusich offers FREE events to various schools\,  centers and studios thr
 ough out the San Jose area on Metaphysics and Spiritual Awakening.\nhttps:/
 /lightnews.org/events/join-dr-jelusich-in-san-jose-may-10th-to-12th/
URL:https://lightnews.org/events/join-dr-jelusich-in-san-jose-may-10th-to-12th/
END:VEVENT
END:VCALENDAR