BEGIN:VCALENDAR
VERSION:2.0
PRODID:-//eventon.com NONSGML v1.0//EN
CALSCALE:GREGORIAN
METHOD:PUBLISH
BEGIN:VEVENT
UID:69eba9f63ac85
DTSTAMP:20260424T173550Z
DTSTART:20170513
DTEND:20170514
LOCATION:
SUMMARY:Join Dr. Jelusich in San Diego May 13th to 24th
DESCRIPTION:Dr. Jelusich will be in San Diego – booking Private Sessio
 ns\,  hosting Flower Readings. Call or email to book your event. Remember D
 r. Jelusich offers FREE events to various schools\,  centers and studios th
 rough out the San Diego area on Metaphysics and Spiritual Awakening.\nhttps
 ://lightnews.org/events/join-dr-jelusich-in-san-diego-may-13th-to-24th/
URL:https://lightnews.org/events/join-dr-jelusich-in-san-diego-may-13th-to-24th/
END:VEVENT
END:VCALENDAR