BEGIN:VCALENDAR
VERSION:2.0
PRODID:-//eventon.com NONSGML v1.0//EN
CALSCALE:GREGORIAN
METHOD:PUBLISH
BEGIN:VEVENT
UID:69eb9655dd518
DTSTAMP:20260424T161205Z
DTSTART:20170525
DTEND:20170526
LOCATION:
SUMMARY:Join Dr. Jelusich in Calgary May 25th to May 30th
DESCRIPTION:Dr. Jelusich will be in Calgary – booking Private Sessions\,
   hosting Flower Readings. Call or email to book your event. Remember Dr. J
 elusich offers FREE events to various schools\,  centers and studios throug
 h out the Calgary area on Metaphysics and Spiritual Awakening.\nhttps://lig
 htnews.org/events/join-dr-jelusich-in-calgary-may-25th-to-may-30th/
URL:https://lightnews.org/events/join-dr-jelusich-in-calgary-may-25th-to-may-30th/
END:VEVENT
END:VCALENDAR