BEGIN:VCALENDAR
VERSION:2.0
PRODID:-//eventon.com NONSGML v1.0//EN
CALSCALE:GREGORIAN
METHOD:PUBLISH
BEGIN:VEVENT
UID:69eb7e09d983c
DTSTAMP:20260424T142825Z
DTSTART:20170602
DTEND:20170603
LOCATION:
SUMMARY:Dr. Jelusich is in Colorado
DESCRIPTION:Dr. Jelusich is away on Family Affairs back June 5th\nhttps://l
 ightnews.org/events/dr-jelusich-is-in-colorado/
URL:https://lightnews.org/events/dr-jelusich-is-in-colorado/
END:VEVENT
END:VCALENDAR