BEGIN:VCALENDAR
VERSION:2.0
PRODID:-//eventon.com NONSGML v1.0//EN
CALSCALE:GREGORIAN
METHOD:PUBLISH
BEGIN:VEVENT
UID:69eb4e3c33597
DTSTAMP:20260424T110428Z
DTSTART:20170605
DTEND:20170606
LOCATION:
SUMMARY:Join Dr. Jelusich in San Diego June 5th to June 14th
DESCRIPTION:Dr. Jelusich will be in San Diego – booking Private Sessio
 ns\,  hosting Flower Readings. Call or email to book your event. Remember D
 r. Jelusich offers FREE events to various schools\,  centers and studios th
 rough out the San Diego area on Metaphysics and Spiritual Awakening.\nhttps
 ://lightnews.org/events/join-dr-jelusich-in-san-diego-june-5th-to-june-14th
 /
URL:https://lightnews.org/events/join-dr-jelusich-in-san-diego-june-5th-to-june-14th/
END:VEVENT
END:VCALENDAR