BEGIN:VCALENDAR
VERSION:2.0
PRODID:-//eventon.com NONSGML v1.0//EN
CALSCALE:GREGORIAN
METHOD:PUBLISH
BEGIN:VEVENT
UID:69e5ea7cda8a7
DTSTAMP:20260420T085732Z
DTSTART:20170615
DTEND:20170616
LOCATION:
SUMMARY:Join Dr. Jelusich in Camrose June 15th to June 19th
DESCRIPTION:Dr. Jelusich will be in Camrose – booking Private Sessions\,
   hosting Flower Readings. Call or email to book your event. Remember Dr. J
 elusich offers FREE events to various schools\,  centers and studios throug
 h out the Calgary area on Metaphysics and Spiritual Awakening.\nhttps://lig
 htnews.org/events/join-dr-jelusich-in-camrose-june-15th-to-june-19th/
URL:https://lightnews.org/events/join-dr-jelusich-in-camrose-june-15th-to-june-19th/
END:VEVENT
END:VCALENDAR