BEGIN:VCALENDAR
VERSION:2.0
PRODID:-//eventon.com NONSGML v1.0//EN
CALSCALE:GREGORIAN
METHOD:PUBLISH
BEGIN:VEVENT
UID:69e5ce68dded4
DTSTAMP:20260420T065744Z
DTSTART:20170620
DTEND:20170621
LOCATION:
SUMMARY:Join Dr. Jelusich in San Diego June 20th to June 25th
DESCRIPTION:Dr. Jelusich will be in San Diego – booking Private Sessio
 ns\,  hosting Flower Readings. Call or email to book your event. Remember D
 r. Jelusich offers FREE events to various schools\,  centers and studios th
 rough out the San Diego area on Metaphysics and Spiritual Awakening.\nhttps
 ://lightnews.org/events/join-dr-jelusich-in-san-diego-june-20th-to-june-25t
 h/
URL:https://lightnews.org/events/join-dr-jelusich-in-san-diego-june-20th-to-june-25th/
END:VEVENT
END:VCALENDAR