BEGIN:VCALENDAR
VERSION:2.0
PRODID:-//eventon.com NONSGML v1.0//EN
CALSCALE:GREGORIAN
METHOD:PUBLISH
BEGIN:VEVENT
UID:69e5b76889e1a
DTSTAMP:20260420T051936Z
DTSTART:20170626
DTEND:20170627
LOCATION:
SUMMARY:Dr Jelusich on a Writing Sabbatical  June 26th - June 30th
DESCRIPTION:Dr. Jelusich will be taking this week off to write. But you ca
 n still book a Private Sessions\,  get information on hosting Flower Readi
 ngs. Call or email Deirdre to book your event. Remember Dr. Jelusich offers
  FREE events to various schools\,  centers and studios throughout North Am
 erica on Metaphysics and Spiritual Awakening.\nhttps://lightnews.org/events
 /dr-jelusich-on-a-writing-sabbatical-june-26th-june-30th/
URL:https://lightnews.org/events/dr-jelusich-on-a-writing-sabbatical-june-26th-june-30th/
END:VEVENT
END:VCALENDAR