BEGIN:VCALENDAR
VERSION:2.0
PRODID:-//eventon.com NONSGML v1.0//EN
CALSCALE:GREGORIAN
METHOD:PUBLISH
BEGIN:VEVENT
UID:69e5a0bf1ff1b
DTSTAMP:20260420T034255Z
DTSTART:20170703
DTEND:20170704
LOCATION:
SUMMARY:Join Dr. Jelusich in San Diego July 3rd to July 19th
DESCRIPTION:Dr. Jelusich will be in San Diego – booking Private Sessio
 ns\,  hosting Flower Readings. Call or email to book your event. Remember D
 r. Jelusich offers FREE events to various schools\,  centers and studios th
 rough out the San Diego area on Metaphysics and Spiritual Awakening.\nhttps
 ://lightnews.org/events/join-dr-jelusich-in-san-diego-july-3rd-to-july-19th
 /
URL:https://lightnews.org/events/join-dr-jelusich-in-san-diego-july-3rd-to-july-19th/
END:VEVENT
END:VCALENDAR