BEGIN:VCALENDAR
VERSION:2.0
PRODID:-//eventon.com NONSGML v1.0//EN
CALSCALE:GREGORIAN
METHOD:PUBLISH
BEGIN:VEVENT
UID:69e5867f6862e
DTSTAMP:20260420T015055Z
DTSTART:20170720
DTEND:20170721
LOCATION:
SUMMARY:Join Dr. Jelusich in Calgary July 20th to July 31st
DESCRIPTION:Dr. Jelusich will be in Calgary – booking Private Sessions\,
   hosting Flower Readings. Call or email to book your event. Remember Dr. J
 elusich offers FREE events to various schools\,  centers and studios throug
 h out the Calgary area on Metaphysics and Spiritual Awakening.\nhttps://lig
 htnews.org/events/join-dr-jelusich-in-calgary-july-20th-to-july-31st/
URL:https://lightnews.org/events/join-dr-jelusich-in-calgary-july-20th-to-july-31st/
END:VEVENT
END:VCALENDAR