BEGIN:VCALENDAR
VERSION:2.0
PRODID:-//eventon.com NONSGML v1.0//EN
CALSCALE:GREGORIAN
METHOD:PUBLISH
BEGIN:VEVENT
UID:69e56fd949e91
DTSTAMP:20260420T001417Z
DTSTART:20180129
DTEND:20180130
LOCATION:
SUMMARY:Dr Jelusich on a Writing Sabbatical  January 29th to February 2nd
DESCRIPTION:Dr. Jelusich will be taking this week off to write. But you ca
 n still book a Private Sessions\,  get information on hosting Flower Readi
 ngs. Call or email Deirdre to book your event. Remember Dr. Jelusich offers
  FREE events to various schools\,  centers and studios throughout North Am
 erica on Metaphysics and Spiritual Awakening.\nhttps://lightnews.org/events
 /dr-jelusich-on-a-writing-sabbatical-january-29th-to-february-2nd/
URL:https://lightnews.org/events/dr-jelusich-on-a-writing-sabbatical-january-29th-to-february-2nd/
END:VEVENT
END:VCALENDAR