BEGIN:VCALENDAR
VERSION:2.0
PRODID:-//eventon.com NONSGML v1.0//EN
CALSCALE:GREGORIAN
METHOD:PUBLISH
BEGIN:VEVENT
UID:69e557c3f3ebc
DTSTAMP:20260419T223131Z
DTSTART:20170621T190000Z
DTEND:20170621T220000Z
LOCATION:
SUMMARY:Intuitive Flower Readings at Tara Healing Center June 21
DESCRIPTION:What is a Flower Reading? The purpose of a Flower Reading is to
  show your true spiritual nature to you – that you really are an amazing 
 luminous being of light… that you are far more than just the mental and p
 hysical presence of your body. The information Dr. Jelusich[..]\nhttps://li
 ghtnews.org/events/intuitive-flower-readings-at-tara-healing-center-june-21
 /
URL:https://lightnews.org/events/intuitive-flower-readings-at-tara-healing-center-june-21/
END:VEVENT
END:VCALENDAR