BEGIN:VCALENDAR
VERSION:2.0
PRODID:-//eventon.com NONSGML v1.0//EN
CALSCALE:GREGORIAN
METHOD:PUBLISH
BEGIN:VEVENT
UID:69e50e08c1da7
DTSTAMP:20260419T171656Z
DTSTART:20170622T190000Z
DTEND:20170622T220000Z
LOCATION:
SUMMARY:Cycles of Consciousness: the Yugas of Time June 22nd
DESCRIPTION:Come explore the 26\, 000 year cycle of consciousness called th
 e “Yugas” and how different cultures viewed the shifting waves of aware
 ness. Those cultures include India\,  Greece and the science of astrology.
  We will discuss how each culture looked at consciousness and the era we a
 re in now. We are entering[..]\nhttps://lightnews.org/events/cycles-of-cons
 ciousness-the-yugas-of-time-june-22nd/
URL:https://lightnews.org/events/cycles-of-consciousness-the-yugas-of-time-june-22nd/
END:VEVENT
END:VCALENDAR