BEGIN:VCALENDAR
VERSION:2.0
PRODID:-//eventon.com NONSGML v1.0//EN
CALSCALE:GREGORIAN
METHOD:PUBLISH
BEGIN:VEVENT
UID:69e528241f233
DTSTAMP:20260419T190820Z
DTSTART:20170712T190000Z
DTEND:20170712T220000Z
LOCATION:
SUMMARY:July 12th "Past 2012: the Mayan Calendar of Consciousness"
DESCRIPTION:Now that December 21st\,  2012 (the end of the Mayan Calendar) 
 has passed\,  where are we now in the cycle of consciousness? The Mayans ha
 ve the only known calendar that states when a certain consciousness will sh
 ow up in the physical dimension.  And the Mayan calendars go back over 16.
 4[..]\nhttps://lightnews.org/events/july-12th-past-2012-the-mayan-calendar-
 of-consciousness/
URL:https://lightnews.org/events/july-12th-past-2012-the-mayan-calendar-of-consciousness/
END:VEVENT
END:VCALENDAR