BEGIN:VCALENDAR
VERSION:2.0
PRODID:-//eventon.com NONSGML v1.0//EN
CALSCALE:GREGORIAN
METHOD:PUBLISH
BEGIN:VEVENT
UID:69e53f07a3430
DTSTAMP:20260419T204559Z
DTSTART:20170809T183000Z
DTEND:20170809T213000Z
LOCATION:
SUMMARY:August 9th - Past Life Karma and Reincarnation Lecture/Readings
DESCRIPTION:Past Life Karma and Reincarnation workshops help you realize th
 at you are the accumulation of many lifetimes\,  and those lifetimes’ aff
 ects and attachments are locked into your four archetypes: mental\,  physic
 al\,  emotional and spiritual. WHY A PAST LIFE READING? Remembering a past
  life enables you to understand who you are now\, [..]\nhttps://lightnews.o
 rg/events/august-9th-past-life-karma-and-reincarnation-lecturereadings/
URL:https://lightnews.org/events/august-9th-past-life-karma-and-reincarnation-lecturereadings/
END:VEVENT
END:VCALENDAR