BEGIN:VCALENDAR
VERSION:2.0
PRODID:-//eventon.com NONSGML v1.0//EN
CALSCALE:GREGORIAN
METHOD:PUBLISH
BEGIN:VEVENT
UID:69e5586e2d904
DTSTAMP:20260419T223422Z
DTSTART:20170706T180000Z
DTEND:20170706T220000Z
LOCATION:
SUMMARY:Toward a Superconsciousness - CIHS Summer Class
DESCRIPTION:NEW Course starting at the California Institute for Human Scien
 ce Taught by Dr. Richard Jelusich On Campus and Online! Starting with two o
 f Dr. Hiroshi Motoyama's books\,  "Toward a Superconsciousness" and "Variet
 ies of Mystical Experience"\,  take a 10 week journey (one night per week) 
 with me into super conscious states[..]\nhttps://lightnews.org/events/towar
 d-a-superconsciousness-cihs-summer-class/
URL:https://lightnews.org/events/toward-a-superconsciousness-cihs-summer-class/
END:VEVENT
END:VCALENDAR