BEGIN:VCALENDAR
VERSION:2.0
PRODID:-//eventon.com NONSGML v1.0//EN
CALSCALE:GREGORIAN
METHOD:PUBLISH
BEGIN:VEVENT
UID:69e5878350492
DTSTAMP:20260420T015515Z
DTSTART:20170719T180000Z
DTEND:20170719T220000Z
LOCATION:
SUMMARY:Toward a Superconsciousness - CIHS Summer Class Wk 3
DESCRIPTION:NEW Course starting at the California Institute for Human Scien
 ce Taught by Dr. Richard Jelusich On Campus and Online! Starting with two o
 f Dr. Hiroshi Motoyama's books\,  "Toward a Superconsciousness" and "Variet
 ies of Mystical Experience"\,  take a 10 week journey (one night per week) 
 with me into super conscious states[..]\nhttps://lightnews.org/events/towar
 d-a-superconsciousness-cihs-summer-class-wk-3/
URL:https://lightnews.org/events/toward-a-superconsciousness-cihs-summer-class-wk-3/
END:VEVENT
END:VCALENDAR