BEGIN:VCALENDAR
VERSION:2.0
PRODID:-//eventon.com NONSGML v1.0//EN
CALSCALE:GREGORIAN
METHOD:PUBLISH
BEGIN:VEVENT
UID:69e938db8d3ce
DTSTAMP:20260422T210843Z
DTSTART:20170725T190000Z
DTEND:20170725T220000Z
LOCATION:
SUMMARY:Cycles of Consciousness at the Home of Om Calgary
DESCRIPTION:Cycles of Consciousness: Rhythms of Time thru Ancient Civilizat
 ions Come explore the cycles of consciousness and the rhythms of time throu
 gh Ancient Cultures\,  and how those cultures predicted the mass changes we
  observe in the world today.  How did they achieve such high states of awa
 reness to accurately predict the[..]\nhttps://lightnews.org/events/cycles-o
 f-consciousness-at-the-home-of-om-calgary/
URL:https://lightnews.org/events/cycles-of-consciousness-at-the-home-of-om-calgary/
END:VEVENT
END:VCALENDAR