BEGIN:VCALENDAR
VERSION:2.0
PRODID:-//eventon.com NONSGML v1.0//EN
CALSCALE:GREGORIAN
METHOD:PUBLISH
BEGIN:VEVENT
UID:69e922d51c84d
DTSTAMP:20260422T193445Z
DTSTART:20170630
DTEND:20170701
LOCATION:
SUMMARY:Join Dr. Jelusich in San Jose June 30th to July 3rd
DESCRIPTION:Dr. Jelusich will be in San Jose – booking Private Sessions
 \,  hosting Flower Readings. Call or email to book your event. Remember Dr.
  Jelusich offers FREE events to various schools\,  centers and studios thro
 ugh out the San Diego area on Metaphysics and Spiritual Awakening.\nhttps:/
 /lightnews.org/events/join-dr-jelusich-in-san-jose-june-30th-to-july-3rd/
URL:https://lightnews.org/events/join-dr-jelusich-in-san-jose-june-30th-to-july-3rd/
END:VEVENT
END:VCALENDAR