BEGIN:VCALENDAR
VERSION:2.0
PRODID:-//eventon.com NONSGML v1.0//EN
CALSCALE:GREGORIAN
METHOD:PUBLISH
BEGIN:VEVENT
UID:69e95340843dc
DTSTAMP:20260422T230120Z
DTSTART:20170724T190000Z
DTEND:20170724T220000Z
LOCATION:
SUMMARY:Science and Metaphysics the Discussion: Q & A with Dr. Jelusich
DESCRIPTION:Have Questions on Metaphysics? What is the Spiritual Nature of 
 the ‘Whole Human Being’?  Come join us for a fun and informative eveni
 ng of conversation with Dr. Richard Jelusich as he discusses our spiritual 
 nature the “Golden Era of Inner Transformation” that is unfolding now\,
   and tools we can use[..]\nhttps://lightnews.org/events/science-and-metaph
 ysics-the-discussion-q-a-with-dr-jelusich/
URL:https://lightnews.org/events/science-and-metaphysics-the-discussion-q-a-with-dr-jelusich/
END:VEVENT
END:VCALENDAR