BEGIN:VCALENDAR
VERSION:2.0
PRODID:-//eventon.com NONSGML v1.0//EN
CALSCALE:GREGORIAN
METHOD:PUBLISH
BEGIN:VEVENT
UID:69e969ea0a41f
DTSTAMP:20260423T003802Z
DTSTART:20170630T180000Z
DTEND:20170630T220000Z
LOCATION:
SUMMARY:Intuitive Flower Readings at Universal Church of the Master
DESCRIPTION:What is a Flower Reading? The purpose of a Flower Reading is to
  show your true spiritual nature to you – that you really are an amazing 
 luminous being of light… that you are far more than just the mental and p
 hysical presence of your body. The information Dr. Jelusich[..]\nhttps://li
 ghtnews.org/events/intuitive-flower-readings-at-universal-church-of-the-mas
 ter/
URL:https://lightnews.org/events/intuitive-flower-readings-at-universal-church-of-the-master/
END:VEVENT
END:VCALENDAR