BEGIN:VCALENDAR
VERSION:2.0
PRODID:-//eventon.com NONSGML v1.0//EN
CALSCALE:GREGORIAN
METHOD:PUBLISH
BEGIN:VEVENT
UID:69e97fa940bb8
DTSTAMP:20260423T021049Z
DTSTART:20170702T093000Z
DTEND:20170702T113000Z
LOCATION:
SUMMARY:Co-Creation in Spirit - Sunday FREE Lecture
DESCRIPTION:One of the greatest realizations we can come to is the intercon
 nectedness of all creation.  That we are a part of not just all the materi
 al universe\,  but of all the future and past as well. We are living in thi
 s moment\,  awakening to the truth of our spiritual potential[..]\nhttps://
 lightnews.org/events/co-creation-in-spirit-sunday-free-lecture/
URL:https://lightnews.org/events/co-creation-in-spirit-sunday-free-lecture/
END:VEVENT
END:VCALENDAR