BEGIN:VCALENDAR
VERSION:2.0
PRODID:-//eventon.com NONSGML v1.0//EN
CALSCALE:GREGORIAN
METHOD:PUBLISH
BEGIN:VEVENT
UID:69e994a23a49d
DTSTAMP:20260423T034018Z
DTSTART:20170702T130000Z
DTEND:20170702T150000Z
LOCATION:
SUMMARY:Cycles of Consciousness at the Center for Creative Living
DESCRIPTION:Cycles of Consciousness: Rhythms of Time thru Ancient Civilizat
 ions Come explore the cycles of consciousness and the rhythms of time throu
 gh Ancient Cultures\,  and how those cultures predicted the mass changes we
  observe in the world today.  How did they achieve such high states of awa
 reness to accurately predict the[..]\nhttps://lightnews.org/events/cycles-o
 f-consciousness-at-the-center-for-creative-living/
URL:https://lightnews.org/events/cycles-of-consciousness-at-the-center-for-creative-living/
END:VEVENT
END:VCALENDAR