BEGIN:VCALENDAR
VERSION:2.0
PRODID:-//eventon.com NONSGML v1.0//EN
CALSCALE:GREGORIAN
METHOD:PUBLISH
BEGIN:VEVENT
UID:69e9a7a199734
DTSTAMP:20260423T050121Z
DTSTART:20170708T083000Z
DTEND:20170709T173000Z
LOCATION:
SUMMARY:CIHS 2017 Annual Conference Forefront Consciousness & Healing Science Research
DESCRIPTION:CIHS 2017 Annual Conference Forefront Consciousness & Healing S
 cience Research: Reports from the Field The California Institute for Human 
 Science’s annual Summer Symposium 2017 will be Forefront Consciousness an
 d Healing Science Research: Reports from the Field\,  July 8 and July 9\,  
 on our beautiful Encinitas Campus. CIHS welcomes your participation[..]\nht
 tps://lightnews.org/events/cihs-2017-annual-conference-forefront-consciousn
 ess-healing-science-research/
URL:https://lightnews.org/events/cihs-2017-annual-conference-forefront-consciousness-healing-science-research/
END:VEVENT
END:VCALENDAR