BEGIN:VCALENDAR
VERSION:2.0
PRODID:-//eventon.com NONSGML v1.0//EN
CALSCALE:GREGORIAN
METHOD:PUBLISH
BEGIN:VEVENT
UID:69e9e79f30c03
DTSTAMP:20260423T093423Z
DTSTART:20170728T190000Z
DTEND:20170728T220000Z
LOCATION:
SUMMARY:Flower Readings - Private Residence July 28
DESCRIPTION:Yes Dr. Jelusich still does Flower Readings! Private Residences
  - Work Venues - Community Halls - Over SKYPE or Zoom! What is a Flower Rea
 ding? The purpose of a Flower Reading is to show your true spiritual nature
  to you – that you really are an amazing luminous being of[..]\nhttps://l
 ightnews.org/events/flower-readings-private-residence-july-28/
URL:https://lightnews.org/events/flower-readings-private-residence-july-28/
END:VEVENT
END:VCALENDAR