BEGIN:VCALENDAR
VERSION:2.0
PRODID:-//eventon.com NONSGML v1.0//EN
CALSCALE:GREGORIAN
METHOD:PUBLISH
BEGIN:VEVENT
UID:69e9fb3e3db35
DTSTAMP:20260423T105806Z
DTSTART:20171120T190000Z
DTEND:20171122T210000Z
LOCATION:
SUMMARY:A Four Part "Enlightenment Series" with Deirdre Leighton
DESCRIPTION:Northern Light News and Deirdre are working together to share 
 the teachings of Dr. Richard Jelusich - join her November 20th through the 
 22nd in Camrose Alberta for a four part Enlightenment Series. Types of Ener
 gy Modalities and how they Work Together — Monday November 20th  7—9pm
  Why all the fuss?[..]\nhttps://lightnews.org/events/a-four-part-enlightenm
 ent-series-with-deirdre-leighton/
URL:https://lightnews.org/events/a-four-part-enlightenment-series-with-deirdre-leighton/
END:VEVENT
END:VCALENDAR