BEGIN:VCALENDAR
VERSION:2.0
PRODID:-//eventon.com NONSGML v1.0//EN
CALSCALE:GREGORIAN
METHOD:PUBLISH
BEGIN:VEVENT
UID:69ea0b999c74a
DTSTAMP:20260423T120753Z
DTSTART:20170930
DTEND:20171001
LOCATION:
SUMMARY:Integrative Chakra Therapy TM: Introduction Weekend Calgary Group 18
DESCRIPTION:Come join other like minded individuals seeking to understand w
 hat Integrative Chakra Therapy: Healers' Training for the Whole Human Being
  is... While learning: The three basic states of healing Biochemical Electr
 omagmetic Quantum (spiritual) Learn the tools and techniques to: Contour ov
 er several energy fields Discern and Detect energetic inconsistencies Under
 stand[..]\nhttps://lightnews.org/events/integrative-chakra-therapy-tm-intro
 duction-weekend-calgary-group-18/
URL:https://lightnews.org/events/integrative-chakra-therapy-tm-introduction-weekend-calgary-group-18/
END:VEVENT
END:VCALENDAR