BEGIN:VCALENDAR
VERSION:2.0
PRODID:-//eventon.com NONSGML v1.0//EN
CALSCALE:GREGORIAN
METHOD:PUBLISH
BEGIN:VEVENT
UID:69ea1e7a65eb6
DTSTAMP:20260423T132826Z
DTSTART:20180120
DTEND:20180121
LOCATION:
SUMMARY:Integrative Chakra Therapy®: Introduction Weekend Calgary Group 19
DESCRIPTION:Come join other like minded individuals seeking to understand w
 hat Integrative Chakra Therapy: Healers' Training for the Whole Human Being
  is... While learning: The three basic states of healing Biochemical Electr
 omagmetic Quantum (spiritual) Learn the tools and techniques to: Contour ov
 er several energy fields Discern and Detect energetic inconsistencies Under
 stand[..]\nhttps://lightnews.org/events/integrative-chakra-therapy-introduc
 tion-weekend-calgary-group-19/
URL:https://lightnews.org/events/integrative-chakra-therapy-introduction-weekend-calgary-group-19/
END:VEVENT
END:VCALENDAR