BEGIN:VCALENDAR
VERSION:2.0
PRODID:-//eventon.com NONSGML v1.0//EN
CALSCALE:GREGORIAN
METHOD:PUBLISH
BEGIN:VEVENT
UID:69ea4a859e3a6
DTSTAMP:20260423T163621Z
DTSTART:20180414
DTEND:20180415
LOCATION:
SUMMARY:Integrative Chakra Therapy Training Level 3 Calgary Group 19
DESCRIPTION:Calgary students will be studying level 3 Anatomy of the Chakra
 s - The fundamental understanding of the chakra system as they emanate our
  Soul Quality into this dimension\,  into our waking personality\,  and how
  they affect the mental\,  physical\,  spiritual and emotional states of be
 ing.  This is the key Level for[..]\nhttps://lightnews.org/events/integrat
 ive-chakra-therapy-training-level-3-calgary-group-19/
URL:https://lightnews.org/events/integrative-chakra-therapy-training-level-3-calgary-group-19/
END:VEVENT
END:VCALENDAR