BEGIN:VCALENDAR
VERSION:2.0
PRODID:-//eventon.com NONSGML v1.0//EN
CALSCALE:GREGORIAN
METHOD:PUBLISH
BEGIN:VEVENT
UID:69ea5fbd8813c
DTSTAMP:20260423T180653Z
DTSTART:20180714
DTEND:20180715
LOCATION:
SUMMARY:Calgary Integrative Chakra Therapy Levels 4 and 5 Group 19
DESCRIPTION:Calgary students will be studying level 4 Quantitative vs. Qual
 itative Reality and level 5 Advanced Chakras of Dr. Richard Jelusich's Â In
 tegrative Chakra TherapyÂ® Training. Quantitative vs. Qualitative Reality â
 €“ Your Chi and Kundalini potential will develop naturally as a result of y
 our spiritual training. Qualitative Healing addresses qualities of the[..]\
 nhttps://lightnews.org/events/calgary-integrative-chakra-therapy-levels-4-a
 nd-5-group-19/
URL:https://lightnews.org/events/calgary-integrative-chakra-therapy-levels-4-and-5-group-19/
END:VEVENT
END:VCALENDAR