BEGIN:VCALENDAR
VERSION:2.0
PRODID:-//eventon.com NONSGML v1.0//EN
CALSCALE:GREGORIAN
METHOD:PUBLISH
BEGIN:VEVENT
UID:69ea77d2b6242
DTSTAMP:20260423T194938Z
DTSTART:20180721
DTEND:20180722
LOCATION:
SUMMARY:San Diego Integrative Chakra Therapy Levels 4 and 5 Group 10
DESCRIPTION:San Diego students will be studying level 4 Quantitative vs. Qu
 alitative Reality and level 5 Advanced Chakras of Dr. Richard Jelusich's  
 Spiritual Healers Training. Quantitative vs. Qualitative Reality – Your C
 hi and Kundalini potential will develop naturally as a result of your spiri
 tual training. Qualitative Healing addresses qualities of the[..]\nhttps://
 lightnews.org/events/san-diego-integrative-chakra-therapy-levels-4-and-5-gr
 oup-10/
URL:https://lightnews.org/events/san-diego-integrative-chakra-therapy-levels-4-and-5-group-10/
END:VEVENT
END:VCALENDAR