BEGIN:VCALENDAR
VERSION:2.0
PRODID:-//eventon.com NONSGML v1.0//EN
CALSCALE:GREGORIAN
METHOD:PUBLISH
BEGIN:VEVENT
UID:69ea9381bc947
DTSTAMP:20260423T214745Z
DTSTART:20181027
DTEND:20181028
LOCATION:
SUMMARY:San Diego G 10 Integrative Chakra Therapy Levels 6 and 7
DESCRIPTION:Dr. Richard Jelusich's students will be studying level 6 Protec
 tion vs. Availability and level 7 Out of Body and Remote Healing of Spiritu
 al Healers Training. Protection vs. Availability - This workshop covers the
  essence of the Feminine Principle: how to yield instead of push.  In this
  workshop you will learn:[..]\nhttps://lightnews.org/events/san-diego-g-10-
 integrative-chakra-therapy-levels-6-and-7/
URL:https://lightnews.org/events/san-diego-g-10-integrative-chakra-therapy-levels-6-and-7/
END:VEVENT
END:VCALENDAR