BEGIN:VCALENDAR
VERSION:2.0
PRODID:-//eventon.com NONSGML v1.0//EN
CALSCALE:GREGORIAN
METHOD:PUBLISH
BEGIN:VEVENT
UID:69eaabefc0766
DTSTAMP:20260423T233159Z
DTSTART:20180623
DTEND:20180624
LOCATION:
SUMMARY:Calgary Group 18 Integrative Chakra Therapy Levels 6 and 7
DESCRIPTION:Dr. Richard Jelusich's students will be studying level 6 Protec
 tion vs. Availability and level 7 Out of Body and Remote Healing of Integra
 tive Chakra Therapy®  Training. Protection vs. Availability - This worksh
 op covers the essence of the Feminine Principle: how to yield instead of pu
 sh.  In this workshop you will[..]\nhttps://lightnews.org/events/calgary-g
 roup-18-integrative-chakra-therapy-levels-6-and-7/
URL:https://lightnews.org/events/calgary-group-18-integrative-chakra-therapy-levels-6-and-7/
END:VEVENT
END:VCALENDAR