BEGIN:VCALENDAR
VERSION:2.0
PRODID:-//eventon.com NONSGML v1.0//EN
CALSCALE:GREGORIAN
METHOD:PUBLISH
BEGIN:VEVENT
UID:69eac2fdb604f
DTSTAMP:20260424T011021Z
DTSTART:20181013
DTEND:20181014
LOCATION:
SUMMARY:Calgary Group 19 Integrative Chakra Therapy Levels 6 and 7
DESCRIPTION:Dr. Richard Jelusich's students will be studying level 6 Protec
 tion vs. Availability and level 7 Out of Body and Remote Healing of Integra
 tive Chakra Therapy® Training. Protection vs. Availability - This workshop
  covers the essence of the Feminine Principle: how to yield instead of push
 .  In this workshop you will[..]\nhttps://lightnews.org/events/calgary-gro
 up-19-integrative-chakra-therapy-levels-6-and-7/
URL:https://lightnews.org/events/calgary-group-19-integrative-chakra-therapy-levels-6-and-7/
END:VEVENT
END:VCALENDAR