BEGIN:VCALENDAR
VERSION:2.0
PRODID:-//eventon.com NONSGML v1.0//EN
CALSCALE:GREGORIAN
METHOD:PUBLISH
BEGIN:VEVENT
UID:69eadd719fd3c
DTSTAMP:20260424T030313Z
DTSTART:20181208
DTEND:20181209
LOCATION:
SUMMARY:Calgary Group 18 Integrative Chakra Therapy Levels 10 and 11
DESCRIPTION:Dr. Richard Jelusich's Calgary students will be studying level 
 10 Attachments Part 1 (Points of Possession) and level 11 Attachments Part 
 2 (Advanced Points of Possession) of Intgrative Chakra TherapyÂ® Training.Â
   Attachments Part l â€“ (Points of Possession) Tube attachments are energe
 tic connections between people and are mostly benign. However\, [..]\nhttps
 ://lightnews.org/events/calgary-group-18-integrative-chakra-therapy-levels-
 10-and-11/
URL:https://lightnews.org/events/calgary-group-18-integrative-chakra-therapy-levels-10-and-11/
END:VEVENT
END:VCALENDAR